BEGIN:VCALENDAR
VERSION:2.0
PRODID:-//wp-events-plugin.com//7.2.3.1//EN
TZID:America/New_York
X-WR-TIMEZONE:America/New_York
BEGIN:VEVENT
UID:20@clevelandphoto.org
DTSTART;TZID=America/New_York:20230220T193000
DTEND;TZID=America/New_York:20230220T220000
DTSTAMP:20230220T212531Z
URL:https://www.clevelandphoto.org/events/intermediate-photoshop-tonal-and
 -color-adjustments/
SUMMARY:Intermediate Photoshop - Tonal and Color Adjustments
DESCRIPTION:Sixth class session in this intensive 8 week course\, providing
  a deeper dive into photo editing\, using Photoshop CC software. For more 
 details and registration information\, visit the School page of this websi
 te.\n\nNOTE: Participation in CPS School program offerings requires enroll
 ment in the entire course. Previous students are always welcome to attend 
 individual sessions in person without the need for advance notice\, regist
 ration or additional cost. Schedule for individual sessions is subject to 
 change.
END:VEVENT
BEGIN:VTIMEZONE
TZID:America/New_York
X-LIC-LOCATION:America/New_York
BEGIN:STANDARD
DTSTART:20221106T010000
TZOFFSETFROM:-0400
TZOFFSETTO:-0500
TZNAME:EST
END:STANDARD
END:VTIMEZONE
END:VCALENDAR