BEGIN:VCALENDAR
VERSION:2.0
PRODID:-//wp-events-plugin.com//7.2.3.1//EN
TZID:America/New_York
X-WR-TIMEZONE:America/New_York
BEGIN:VEVENT
UID:169@clevelandphoto.org
DTSTART;TZID=America/New_York:20240122T193000
DTEND;TZID=America/New_York:20240122T220000
DTSTAMP:20231226T203346Z
URL:https://www.clevelandphoto.org/events/intermediate-photoshop-class-lay
 ers-layer-masks-and-blend-modes/
SUMMARY:Intermediate Photoshop Class - Layers\, Layer Masks and Blend Modes
DESCRIPTION:Third class session in this intensive 8 week course\, providing
  more in depth instruction in Photoshop. For more details and registration
  information\, visit the School page of this website.\n\nNOTE: Participati
 on in CPS School program offerings requires enrollment in the entire cours
 e. Classes are for enrolled students only. See our Schools page for more i
 nformation.
CATEGORIES:School
END:VEVENT
BEGIN:VTIMEZONE
TZID:America/New_York
X-LIC-LOCATION:America/New_York
BEGIN:STANDARD
DTSTART:20231105T010000
TZOFFSETFROM:-0400
TZOFFSETTO:-0500
TZNAME:EST
END:STANDARD
END:VTIMEZONE
END:VCALENDAR