BEGIN:VCALENDAR
VERSION:2.0
PRODID:-//wp-events-plugin.com//7.2.3.1//EN
TZID:America/New_York
X-WR-TIMEZONE:America/New_York
BEGIN:VEVENT
UID:173@clevelandphoto.org
DTSTART;TZID=America/New_York:20240226T193000
DTEND;TZID=America/New_York:20240226T220000
DTSTAMP:20231215T150229Z
URL:https://www.clevelandphoto.org/events/intermediate-photoshop-class-ble
 nd-if-luminosity-masks-workflow/
SUMMARY:Intermediate Photoshop Class - Blend-If\, Luminosity Masks & Workfl
 ow
DESCRIPTION:Seventh class session in this intensive 8 week course\, providi
 ng more in depth instruction in Photoshop. For more details and registrati
 on information\, visit the School page of this website.\n\nNOTE: Participa
 tion in CPS School program offerings requires enrollment in the entire cou
 rse. Classes are for enrolled students only. See our Schools page for more
  information.
CATEGORIES:School
END:VEVENT
BEGIN:VTIMEZONE
TZID:America/New_York
X-LIC-LOCATION:America/New_York
BEGIN:STANDARD
DTSTART:20231105T010000
TZOFFSETFROM:-0400
TZOFFSETTO:-0500
TZNAME:EST
END:STANDARD
END:VTIMEZONE
END:VCALENDAR