BEGIN:VCALENDAR
VERSION:2.0
PRODID:-//wp-events-plugin.com//7.2.3.1//EN
TZID:America/New_York
X-WR-TIMEZONE:America/New_York
BEGIN:VEVENT
UID:699@clevelandphoto.org
DTSTART;TZID=America/New_York:20250704T200000
DTEND;TZID=America/New_York:20250704T233000
DTSTAMP:20250629T000934Z
URL:https://www.clevelandphoto.org/events/holiday-fireworks-boat-cruise-is
 -back-members-only-2/
SUMMARY:HOLIDAY FIREWORKS BOAT CRUISE IS BACK (now open to non members)
DESCRIPTION:\n\nAn email has been sent with a link to register for this eve
 nt. This event is now open to non members and members. Make your reservati
 on soon!\n\nJuly 4 2024\n\nBoat departs at 8:30pm fireworks start about 10
 pm\n\nBoarding is at 1800 Scranton Road at 8:00 PM-\n\n50$ per person (thi
 s one fills fast!)\n\nYou payment will reserve your place.\n\nMembers only
 ! (members can bring only one guest)\n\nRegistration is non-refundable\n\n
 Registration starts May 15 2025 (EMAILS WILL BE SENT WITH NOTIFICATION)\n\
 nJoin us for our annual Holiday Boat Cruise to watch the Cleveland firewor
 ks. This is a member favorite\, so reserve your place early. Registration 
 begins May 15 2025\n\nHere are a few rules:\n\n 	No Tripods\n 	No beverage
 s may be brought on board\; this includes soft drinks\, beer\, wine\, and 
 liquor\n 	There will be a cash bar\n 	Flammable materials such as firework
 s are not permitted\n 	No open-toed shoes\n 	There is a bathroom on board\
 n 	The cruise will depart at 8:30 and arrive back at 11:30 PM\n 	Cleveland
  normally sets off fireworks at 10:00 PM\n\nHope to see you on July 4!\n\n
 &nbsp\;\n\nhttps://www.clevelandphoto.org/programs/field-trips/fireworks-b
 oat/
END:VEVENT
BEGIN:VTIMEZONE
TZID:America/New_York
X-LIC-LOCATION:America/New_York
BEGIN:DAYLIGHT
DTSTART:20250309T030000
TZOFFSETFROM:-0500
TZOFFSETTO:-0400
TZNAME:EDT
END:DAYLIGHT
END:VTIMEZONE
END:VCALENDAR