BEGIN:VCALENDAR
VERSION:2.0
PRODID:-//wp-events-plugin.com//7.2.3.1//EN
TZID:America/New_York
X-WR-TIMEZONE:America/New_York
BEGIN:VEVENT
UID:889@clevelandphoto.org
DTSTART;TZID=America/New_York:20260612T193000
DTEND;TZID=America/New_York:20260612T210000
DTSTAMP:20260327T001141Z
URL:https://www.clevelandphoto.org/events/gary-wood-photograher/
SUMMARY:Gary Wood Photographer - Topaz Photo replaces Topaz Photo AI. This 
 will be in-person.  Club will be open.
DESCRIPTION:\n\n\n\nTitle: Topaz Photo replaces Topaz Photo AI\n \nDescri
 ption:\n\nTopaz Photo has a much better user interface and the same featur
 es with improvements as Topaz Photo AI. I will demonstrate: \n      T
 he new user interface for the features: RAW Denoise\, Sharpen\, Save\, and
  Upscale. \n      Processing multiple images from a bust set \n   
    Adjust the sharping after using Camera Raw\n      Using screen ca
 pture to create notes\n\nBio:\nGary studied photography at the University 
 of Minnesota in the late 1970’s.  He joined CPS in 1982. Family life a
 nd work became more demanding\, and he left CPS until he retired and rejoi
 ned in 2018. He then took all the classes offered by CPS and now enjoys th
 e competitions\, critiques\, critiques\, mentoring\, fieldtrips\, and work
 shops. Gary has chosen to remain a non-professional that primarily photogr
 aphs nature\, travel\, and special events. He has contributed several phot
 ographs to Snapshot\, an article to Darkroom Door\, has mentored how to ph
 otograph birds in flight\, and had given two previous presentations on Top
 az Photo AI.\n\n
END:VEVENT
BEGIN:VTIMEZONE
TZID:America/New_York
X-LIC-LOCATION:America/New_York
BEGIN:DAYLIGHT
DTSTART:20260308T030000
TZOFFSETFROM:-0500
TZOFFSETTO:-0400
TZNAME:EDT
END:DAYLIGHT
END:VTIMEZONE
END:VCALENDAR