BEGIN:VCALENDAR
VERSION:2.0
PRODID:-//wp-events-plugin.com//7.2.3.1//EN
TZID:America/New_York
X-WR-TIMEZONE:America/New_York
BEGIN:VEVENT
UID:599@clevelandphoto.org
DTSTART;TZID=America/New_York:20250606T193000
DTEND;TZID=America/New_York:20250606T213000
DTSTAMP:20250606T132013Z
URL:https://www.clevelandphoto.org/events/gabe-wasylko/
SUMMARY:Part I Mastering the Magic of Macro\, The Ultimate Guide to Macro P
 hotography:  - Pixel Connection
DESCRIPTION:Mastering the Magic of Macro\, The Ultimate Guide to Macro Phot
 ography:\nFriday: June 6th. (This presentation will be at Cleveland Photog
 raphic Society)\nDiscover the magic of macro photography and learn how to 
 capture the smallest details in everyday subjects – whether you’re exp
 loring nature\, wandering city streets\, or setting up shots at home or in
  a studio. Macro photography offers a fun and creative twist to your favor
 ite genres\, from landscapes and street photography to portraits!\n\nIn th
 is session\, we’ll cover everything you need to get started\, including:
 \n\n· The fundamentals of macro photography\n\n· Planning and preparing 
 for your shoot\n\n· Recommended camera settings and compositions for maxi
 mum impact\n\n· Choosing the right gear for macro photography\n\n· Worki
 ng with available light or adding supplemental lighting to bring your visi
 on to life\n\nDesigned for beginners and hobbyists\, this class will build
  your confidence with macro photography\, equipping you with the skills to
  bring your ideas to life. After the class\, you’ll be ready to start ex
 ploring the incredible\, tiny details in the world around you and be prepa
 red to put your new knowledge into action during Saturday’s hands-on wor
 kshop at Pixel Connection.\n\nGet ready to capture the world up close and 
 transform the way you see everyday subjects!\nOn Saturday\, June 7th\, an 
 event will be held at Pixel Connection. The time will be announced soon. R
 eservations are required\, and more information will be provided soon.\nMa
 stering the Magic of Macro\, The Ultimate Guide to Macro Photography - Thi
 s is optional\, but more hands-on for those interested in a deeper experie
 nce. This event will be held at Pixel Connection.\n\nIt’s time to put yo
 ur new macro photography skills into action! This hands-on workshop at Pix
 el Connection’s Avon store builds on the techniques from Friday night’
 s presentation. It’s a fun and engaging opportunity to practice with rea
 l-time guidance while creating stunning images for your macro photography 
 portfolio.\n\nPixel Connection team and Sigma Tech Rep Steph will be on ha
 nd throughout the workshop to offer tips and troubleshooting to help you g
 et the most out of your shots. During the shooting portion\, you’ll have
  access to multiple fully-styled stations\, each designed to highlight col
 or and texture. These stations will feature a mix of natural and artificia
 l lighting\, providing plenty of opportunities to refine your skills.\n\nW
 hether you’re focused on perfecting focus\, fine-tuning exposure\, explo
 ring advanced techniques like focus stacking\, or simply growing your port
 folio\, this workshop has something for everyone!\n\nAfter the shooting po
 rtion\, we’ll wrap up with a brief post-processing tutorial in Lightroom
  and Photoshop\, including a step-by-step guide to focus stacking.\n\nWhat
  to Bring:\n\n· Camera\, memory cards\, and multiple fully charged batter
 ies\n· Tripod (optional but welcomed)\n· Sigma macro lenses will be avai
 lable to borrow if needed\n\nDon’t miss this chance to elevate your macr
 o photography skills in a fun\, interactive environment. Reserve your spot
  today!
END:VEVENT
BEGIN:VTIMEZONE
TZID:America/New_York
X-LIC-LOCATION:America/New_York
BEGIN:DAYLIGHT
DTSTART:20250309T030000
TZOFFSETFROM:-0500
TZOFFSETTO:-0400
TZNAME:EDT
END:DAYLIGHT
END:VTIMEZONE
END:VCALENDAR