BEGIN:VCALENDAR
VERSION:2.0
PRODID:-//wp-events-plugin.com//7.2.3.1//EN
TZID:America/New_York
X-WR-TIMEZONE:America/New_York
BEGIN:VEVENT
UID:453@clevelandphoto.org
DTSTART;TZID=America/New_York:20251112T193000
DTEND;TZID=America/New_York:20251112T220000
DTSTAMP:20250502T130012Z
URL:https://www.clevelandphoto.org/events/fundamentals-class-student-image
 -review-5/
SUMMARY:Fundamentals Class 12 - Student Image Review
DESCRIPTION:Twelfth class session in this intensive 12 week course.  In th
 is class students' photographs are reviewed and students are offered advic
 e on how the photos might be improved.\n\nThis course provides a complete 
 introduction to photography. For more details and registration information
 \, visit the School page of this website.\n\nNOTE: Participation in CPS S
 chool program offerings requires enrollment in the entire course. Schedule
  for individual sessions is subject to change.
CATEGORIES:School
END:VEVENT
BEGIN:VTIMEZONE
TZID:America/New_York
X-LIC-LOCATION:America/New_York
BEGIN:STANDARD
DTSTART:20251102T010000
TZOFFSETFROM:-0400
TZOFFSETTO:-0500
TZNAME:EST
END:STANDARD
END:VTIMEZONE
END:VCALENDAR