BEGIN:VCALENDAR
VERSION:2.0
PRODID:-//wp-events-plugin.com//7.2.3.1//EN
TZID:America/New_York
X-WR-TIMEZONE:America/New_York
BEGIN:VEVENT
UID:433@clevelandphoto.org
DTSTART;TZID=America/New_York:20250326T193000
DTEND;TZID=America/New_York:20250326T220000
DTSTAMP:20240830T210208Z
URL:https://www.clevelandphoto.org/events/fundamentals-class-student-image
 -review-4/
SUMMARY:Fundamentals Class - Student Image Review
DESCRIPTION:Twelfth class session in this intensive 12 week course\, provid
 ing a complete introduction to photography. For more details and registrat
 ion information\, visit the School page of this website.\n\nNOTE: Partici
 pation in CPS School program offerings requires enrollment in the entire c
 ourse. Schedule for individual sessions is subject to change.
CATEGORIES:School
END:VEVENT
BEGIN:VTIMEZONE
TZID:America/New_York
X-LIC-LOCATION:America/New_York
BEGIN:DAYLIGHT
DTSTART:20250309T030000
TZOFFSETFROM:-0500
TZOFFSETTO:-0400
TZNAME:EDT
END:DAYLIGHT
END:VTIMEZONE
END:VCALENDAR