BEGIN:VCALENDAR
VERSION:2.0
PRODID:-//wp-events-plugin.com//7.2.3.1//EN
TZID:America/New_York
X-WR-TIMEZONE:America/New_York
BEGIN:VEVENT
UID:255@clevelandphoto.org
DTSTART;TZID=America/New_York:20241113T193000
DTEND;TZID=America/New_York:20241113T220000
DTSTAMP:20240830T205810Z
URL:https://www.clevelandphoto.org/events/fundamentals-class-student-image
 -review-3/
SUMMARY:Fundamentals Class - Student Image Review
DESCRIPTION:Twelfth class session in this intensive 12 week course\, provid
 ing a complete introduction to photography. For more details and registrat
 ion information\, visit the School page of this website.\n\nNOTE: Partici
 pation in CPS School program offerings requires enrollment in the entire c
 ourse. Schedule for individual sessions is subject to change.
CATEGORIES:School
END:VEVENT
BEGIN:VTIMEZONE
TZID:America/New_York
X-LIC-LOCATION:America/New_York
BEGIN:STANDARD
DTSTART:20241103T010000
TZOFFSETFROM:-0400
TZOFFSETTO:-0500
TZNAME:EST
END:STANDARD
END:VTIMEZONE
END:VCALENDAR