BEGIN:VCALENDAR
VERSION:2.0
PRODID:-//wp-events-plugin.com//7.2.3.1//EN
TZID:America/New_York
X-WR-TIMEZONE:America/New_York
BEGIN:VEVENT
UID:450@clevelandphoto.org
DTSTART;TZID=America/New_York:20251029T193000
DTEND;TZID=America/New_York:20251029T220000
DTSTAMP:20250502T125816Z
URL:https://www.clevelandphoto.org/events/fundamentals-class-night-photogr
 aphy-and-photoshop-demo-5/
SUMMARY:Fundamentals Class 10 - Night & People Photography / Photo Editing 
 Demo
DESCRIPTION:Students will learn some of the techniques for people photograp
 hy and night photography.  The students will also be given a demonstratio
 n of how editing their photos can take them from good to stunning.\n\nNint
 h class session in this intensive 12 week course\, providing a complete in
 troduction to photography. For more details and registration information\,
  visit the School page of this website.\n\nNOTE: Participation in CPS Sch
 ool program offerings requires enrollment in the entire course. Schedule f
 or individual sessions is subject to change.
CATEGORIES:School
END:VEVENT
BEGIN:VTIMEZONE
TZID:America/New_York
X-LIC-LOCATION:America/New_York
BEGIN:DAYLIGHT
DTSTART:20250309T030000
TZOFFSETFROM:-0500
TZOFFSETTO:-0400
TZNAME:EDT
END:DAYLIGHT
END:VTIMEZONE
END:VCALENDAR