BEGIN:VCALENDAR
VERSION:2.0
PRODID:-//wp-events-plugin.com//7.2.3.1//EN
TZID:America/New_York
X-WR-TIMEZONE:America/New_York
BEGIN:VEVENT
UID:696@clevelandphoto.org
DTSTART;TZID=America/New_York:20260411T100000
DTEND;TZID=America/New_York:20260411T160000
DTSTAMP:20260307T154448Z
URL:https://www.clevelandphoto.org/events/fundamentals-class-lenses-filter
 s-and-composition-2/
SUMMARY:Fundamentals Class - Environmental Portraiture and Composition
DESCRIPTION:Third and fourth class sessions in this intensive 6 week course
 \, providing a complete introduction to photography.\n\nIn the morning stu
 dents will learn techniques for creating interesting portraits using natur
 al light both indoors and outdoors and how to choose the best locations fo
 r their portraits.\n\nIn the afternoon students will learn how to place el
 ements in a photograph to make it more interesting to viewers.  They will
  learn rules-of-thumb that will help them to create more professional look
 ing photos.\n\nAlso\, club members will have their personal tripods and ca
 mera bags available for students to look at\, handle and ask questions abo
 ut.\n\nFor more details and registration information\, visit the School pa
 ge of this website.\n\nNOTE: Participation in CPS School program offering
 s requires enrollment in the entire course. Schedule for individual sessio
 ns is subject to change.
CATEGORIES:School
END:VEVENT
BEGIN:VTIMEZONE
TZID:America/New_York
X-LIC-LOCATION:America/New_York
BEGIN:DAYLIGHT
DTSTART:20260308T030000
TZOFFSETFROM:-0500
TZOFFSETTO:-0400
TZNAME:EDT
END:DAYLIGHT
END:VTIMEZONE
END:VCALENDAR