BEGIN:VCALENDAR
VERSION:2.0
PRODID:-//wp-events-plugin.com//7.2.3.1//EN
TZID:America/New_York
X-WR-TIMEZONE:America/New_York
BEGIN:VEVENT
UID:247@clevelandphoto.org
DTSTART;TZID=America/New_York:20240918T193000
DTEND;TZID=America/New_York:20240918T220000
DTSTAMP:20240830T205650Z
URL:https://www.clevelandphoto.org/events/fundamentals-class-lenses-and-fi
 lters-3/
SUMMARY:Fundamentals Class - Lenses and Filters
DESCRIPTION:Fourth class session in this intensive 12 week course\, providi
 ng a complete introduction to photography. For more details and registrati
 on information\, visit the School page of this website.\n\nNOTE: Particip
 ation in CPS School program offerings requires enrollment in the entire co
 urse. Schedule for individual sessions is subject to change.
CATEGORIES:School
END:VEVENT
BEGIN:VTIMEZONE
TZID:America/New_York
X-LIC-LOCATION:America/New_York
BEGIN:DAYLIGHT
DTSTART:20240310T030000
TZOFFSETFROM:-0500
TZOFFSETTO:-0400
TZNAME:EDT
END:DAYLIGHT
END:VTIMEZONE
END:VCALENDAR