BEGIN:VCALENDAR
VERSION:2.0
PRODID:-//wp-events-plugin.com//7.2.3.1//EN
TZID:America/New_York
X-WR-TIMEZONE:America/New_York
BEGIN:VEVENT
UID:244@clevelandphoto.org
DTSTART;TZID=America/New_York:20240828T193000
DTEND;TZID=America/New_York:20240828T220000
DTSTAMP:20240827T183622Z
URL:https://www.clevelandphoto.org/events/fundamentals-class-introduction-
 and-camera-familiarization-4/
SUMMARY:Fundamentals Class - Introduction and Camera Familiarization
DESCRIPTION:First class session in this intensive 12 week course\, providin
 g a complete introduction to photography. For more details and registratio
 n information\, visit the School page of this website.\n\nNOTE: Participa
 tion in CPS School program offerings requires enrollment in the entire cou
 rse. Schedule for individual sessions is subject to change.
CATEGORIES:School
END:VEVENT
BEGIN:VTIMEZONE
TZID:America/New_York
X-LIC-LOCATION:America/New_York
BEGIN:DAYLIGHT
DTSTART:20240310T030000
TZOFFSETFROM:-0500
TZOFFSETTO:-0400
TZNAME:EDT
END:DAYLIGHT
END:VTIMEZONE
END:VCALENDAR