BEGIN:VCALENDAR
VERSION:2.0
PRODID:-//wp-events-plugin.com//7.2.3.1//EN
TZID:America/New_York
X-WR-TIMEZONE:America/New_York
BEGIN:VEVENT
UID:223@clevelandphoto.org
DTSTART;TZID=America/New_York:20240103T193000
DTEND;TZID=America/New_York:20240103T220000
DTSTAMP:20230827T133923Z
URL:https://www.clevelandphoto.org/events/fundamentals-class-introduction-
 and-camera-familiarization-3/
SUMMARY:Fundamentals Class - Introduction and Camera Familiarization
DESCRIPTION:First class session in this intensive 12 week course\, providin
 g a complete introduction to photography. For more details and registratio
 n information\, visit the School page of this website.\n\nNOTE: Participa
 tion in CPS School program offerings requires enrollment in the entire cou
 rse. Previous students are always welcome to attend individual sessions wi
 thout the need for advance notice\, registration or additional cost. Sched
 ule for individual sessions is subject to change.
CATEGORIES:School
END:VEVENT
BEGIN:VTIMEZONE
TZID:America/New_York
X-LIC-LOCATION:America/New_York
BEGIN:STANDARD
DTSTART:20231105T010000
TZOFFSETFROM:-0400
TZOFFSETTO:-0500
TZNAME:EST
END:STANDARD
END:VTIMEZONE
END:VCALENDAR