BEGIN:VCALENDAR
VERSION:2.0
PRODID:-//wp-events-plugin.com//7.2.3.1//EN
TZID:America/New_York
X-WR-TIMEZONE:America/New_York
BEGIN:VEVENT
UID:236@clevelandphoto.org
DTSTART;TZID=America/New_York:20240406T100000
DTEND;TZID=America/New_York:20240406T160000
DTSTAMP:20230827T170119Z
URL:https://www.clevelandphoto.org/events/fundamentals-class-intro-camera-
 familiarization-and-exposure-2/
SUMMARY:Fundamentals Class - Intro & Camera Familiarization and Exposure
DESCRIPTION:First and second class sessions in this intensive 6 week course
 \, providing a complete introduction to photography. For more details and 
 registration information\, visit the School page of this website.\n\nNOTE
 : Participation in CPS School program offerings requires enrollment in the
  entire course. Previous students are always welcome to attend individual 
 sessions without the need for advance notice\, registration or additional 
 cost. Schedule for individual sessions is subject to change.
CATEGORIES:School
END:VEVENT
BEGIN:VTIMEZONE
TZID:America/New_York
X-LIC-LOCATION:America/New_York
BEGIN:DAYLIGHT
DTSTART:20240310T030000
TZOFFSETFROM:-0500
TZOFFSETTO:-0400
TZNAME:EDT
END:DAYLIGHT
END:VTIMEZONE
END:VCALENDAR