BEGIN:VCALENDAR
VERSION:2.0
PRODID:-//wp-events-plugin.com//7.2.3.1//EN
TZID:America/New_York
X-WR-TIMEZONE:America/New_York
BEGIN:VEVENT
UID:438@clevelandphoto.org
DTSTART;TZID=America/New_York:20250503T100000
DTEND;TZID=America/New_York:20250503T160000
DTSTAMP:20250422T125616Z
URL:https://www.clevelandphoto.org/events/fundamentals-class-flash-and-nig
 ht-photography-street-photography-photoshop-demo/
SUMMARY:Fundamentals Class - Using Flash / Night & Street Photography / Pho
 to Editing Demo
DESCRIPTION:Ninth and tenth class sessions in this intensive 6 week course\
 , providing a complete introduction to photography. For more details and r
 egistration information\, visit the School page of this website.\n\nNOTE:
  Participation in CPS School program offerings requires enrollment in the 
 entire course. Schedule for individual sessions is subject to change.
CATEGORIES:School
END:VEVENT
BEGIN:VTIMEZONE
TZID:America/New_York
X-LIC-LOCATION:America/New_York
BEGIN:DAYLIGHT
DTSTART:20250309T030000
TZOFFSETFROM:-0500
TZOFFSETTO:-0400
TZNAME:EDT
END:DAYLIGHT
END:VTIMEZONE
END:VCALENDAR