BEGIN:VCALENDAR
VERSION:2.0
PRODID:-//wp-events-plugin.com//7.2.3.1//EN
TZID:America/New_York
X-WR-TIMEZONE:America/New_York
BEGIN:VEVENT
UID:695@clevelandphoto.org
DTSTART;TZID=America/New_York:20260418T100000
DTEND;TZID=America/New_York:20260418T160000
DTSTAMP:20250505T174540Z
URL:https://www.clevelandphoto.org/events/fundamentals-class-flash-and-mac
 ro-2/
SUMMARY:Fundamentals Class - Flash and Macro
DESCRIPTION:Fifth and sixth class sessions in this intensive 6 week course\
 , providing a complete introduction to photography.\n\nIn the morning stud
 ents will learn about the various types of flash devices that are availabl
 e.  They will learn when to use a flash and several ways a flash can be u
 sed.\n\nIn the afternoon students will learn what macro photography is and
  how to do it.  Students will be given the opportunity to practice macro 
 photography at several macro stations setup around the clubhouse.\n\nFor m
 ore details and registration information\, visit the School page of this 
 website.\n\nNOTE: Participation in CPS School program offerings requires e
 nrollment in the entire course. Previous students are always welcome to at
 tend individual sessions without the need for advance notice\, registratio
 n or additional cost. Schedule for individual sessions is subject to chang
 e.
CATEGORIES:School
END:VEVENT
BEGIN:VTIMEZONE
TZID:America/New_York
X-LIC-LOCATION:America/New_York
BEGIN:DAYLIGHT
DTSTART:20260308T030000
TZOFFSETFROM:-0500
TZOFFSETTO:-0400
TZNAME:EDT
END:DAYLIGHT
END:VTIMEZONE
END:VCALENDAR