BEGIN:VCALENDAR
VERSION:2.0
PRODID:-//wp-events-plugin.com//7.2.3.1//EN
TZID:America/New_York
X-WR-TIMEZONE:America/New_York
BEGIN:VEVENT
UID:40@clevelandphoto.org
DTSTART;TZID=America/New_York:20230507T100000
DTEND;TZID=America/New_York:20230507T120000
DTSTAMP:20230308T171444Z
URL:https://www.clevelandphoto.org/events/fundamentals-class-field-trip-st
 one-garden-farm/
SUMMARY:Fundamentals Class Field Trip - Stone Garden Farm
DESCRIPTION:This is a chance to hone your new skills with instructors on si
 te to answer your questions.\n\nA part of the farm has been dedicated to t
 he creation of The Museum of Western Reserve Farms and Equipment. Our goal
  is to establish a working village during the 1820's to 1920's\, equipped 
 with every shop and trade common to a small town. We are saving and preser
 ving many historic buildings that would have otherwise been forever lost. 
 And we are recording the stories of many of the old farming families of th
 e Western Reserve.\n\nThe Museum is so far comprised of a collection of 40
 + historic buildings moved here from 6 northern Ohio counties\, with more 
 added each year. These buildings are arranged as a 'Western Reserve' style
  town\, that includes a one room school\, a General Store\, a post office 
 dating to 1825\, a cigar factory\, windmills\, old time water pumps &amp\;
  troughs\, one of the oldest barns in Ohio\, and a bakery. Many other buil
 dings have been restored to their original use and purpose with each build
 ing open for touring. They each contain a variety of tools\, equipment\, a
 nd rare\, non-electric antiques. The shops include blacksmithing\, harness
  &amp\; boot making shop\, weaving mill\, sawmill\, barrel making\, tin sh
 op\, a letterpress print shop\, broom making\, threshing mill\, rope makin
 g\, wood shop\, and much more.\n\nFor more information visit their website
  by clicking here.\n\n
END:VEVENT
BEGIN:VTIMEZONE
TZID:America/New_York
X-LIC-LOCATION:America/New_York
BEGIN:DAYLIGHT
DTSTART:20230312T030000
TZOFFSETFROM:-0500
TZOFFSETTO:-0400
TZNAME:EDT
END:DAYLIGHT
END:VTIMEZONE
END:VCALENDAR