BEGIN:VCALENDAR
VERSION:2.0
PRODID:-//wp-events-plugin.com//7.2.3.1//EN
TZID:America/New_York
X-WR-TIMEZONE:America/New_York
BEGIN:VEVENT
UID:689@clevelandphoto.org
DTSTART;TZID=America/New_York:20260503T100000
DTEND;TZID=America/New_York:20260503T120000
DTSTAMP:20250502T130526Z
URL:https://www.clevelandphoto.org/events/fundamentals-class-field-trip-st
 one-garden-farm-9/
SUMMARY:Fundamentals Class Field Trip - Stone Garden Farm
DESCRIPTION:&nbsp\;\n\n\n\nThe Fundamentals Class field trip will be to the
  Museum of Western Reserve Farms &amp\; Equipment at Stone Garden Farm and
  Village in Richfield!\n\nLocated only about 15 minutes from the Club\, th
 e Museum seeks to preserve the tools\, machines\, knowledge\, abilities an
 d stories of the master tradesmen and women of the past. On their fifty-ei
 ght acres\, they are collecting the equipment used by every trade typicall
 y found in a small community of 150 years ago. There are also a variety of
  restored and under-restoration buildings to explore.\n\nWhere: The Museum
  is located at 2891 Southern Rd\, Richfield\, OH 44286 For a map\, click h
 ere.\n\nWho: This trip is open to current CPS Fundamentals students only.\
 n\nCost: This trip is FREE\, but the Farm is hoping to receive images from
  attendees for use on their website. There is also a gift shop on site and
  all proceeds from sales help support the continued upkeep and expansion o
 f the Farm and Village\n\nTime: 10:00 am until Noon\n\nWhat to Bring: Wide
  angle lens suited for Landscape\, lens for Macro\, Tripod\, Sun screen\, 
 and bug spray.  Boots because the grounds are often muddy.\n\nMore info: 
 Visit their website\n\nQuestions?: schooldirector@clevelandphoto.org\n\nPL
 EASE NOTE: As with all field trips\, CPS cannot be held responsible for an
 y accidents or injuries - participate at your own risk.
CATEGORIES:School
END:VEVENT
BEGIN:VTIMEZONE
TZID:America/New_York
X-LIC-LOCATION:America/New_York
BEGIN:DAYLIGHT
DTSTART:20260308T030000
TZOFFSETFROM:-0500
TZOFFSETTO:-0400
TZNAME:EDT
END:DAYLIGHT
END:VTIMEZONE
END:VCALENDAR