BEGIN:VCALENDAR
VERSION:2.0
PRODID:-//wp-events-plugin.com//7.2.3.1//EN
TZID:America/New_York
X-WR-TIMEZONE:America/New_York
BEGIN:VEVENT
UID:692@clevelandphoto.org
DTSTART;TZID=America/New_York:20260502T100000
DTEND;TZID=America/New_York:20260502T160000
DTSTAMP:20260215T214413Z
URL:https://www.clevelandphoto.org/events/fundamentals-class-exposure-ii-s
 ports-photography-and-night-photography-photoshop-demo-2/
SUMMARY:Fundamentals Class - Exposure II & Sports / Night & People Photogra
 phy / Editing Demo
DESCRIPTION:Ninth and tenth class sessions in this intensive 6 week course\
 , providing a complete introduction to photography. For more details and r
 egistration information\, visit the School page of this website.\n\nIn th
 e morning students will be taught more in-depth concepts of exposure and h
 ow their cameras may mislead them.  The students will learn some tips and
  techniques for sports photography.\n\nIn the afternoon Students will lear
 n some of the techniques for people photography and night photography.  T
 he students will also be given a demonstration of how editing their photos
  can take them from good to stunning.\n\nNOTE: Participation in CPS School
  program offerings requires enrollment in the entire course. Previous stud
 ents are always welcome to attend individual sessions without the need for
  advance notice\, registration or additional cost. Schedule for individual
  sessions is subject to change.
CATEGORIES:School
END:VEVENT
BEGIN:VTIMEZONE
TZID:America/New_York
X-LIC-LOCATION:America/New_York
BEGIN:DAYLIGHT
DTSTART:20260308T030000
TZOFFSETFROM:-0500
TZOFFSETTO:-0400
TZNAME:EDT
END:DAYLIGHT
END:VTIMEZONE
END:VCALENDAR