BEGIN:VCALENDAR
VERSION:2.0
PRODID:-//wp-events-plugin.com//7.2.3.1//EN
TZID:America/New_York
X-WR-TIMEZONE:America/New_York
BEGIN:VEVENT
UID:34@clevelandphoto.org
DTSTART;TZID=America/New_York:20230506T100000
DTEND;TZID=America/New_York:20230506T160000
DTSTAMP:20230308T140607Z
URL:https://www.clevelandphoto.org/events/fundamentals-class-exposure-ii-s
 ports-and-night-photography-photoshop-demo/
SUMMARY:Fundamentals Class - Exposure II & Sports and Night Photography & P
 hotoshop Demo
DESCRIPTION:Fifth class in this intensive 6 session course\, providing a co
 mplete introduction to photography. For more details and registration info
 rmation\, visit the School page of this website.\nNOTE: Participation in 
 CPS School program offerings requires enrollment in the entire course. Pre
 vious students are always welcome to attend individual sessions without th
 e need for advance notice\, registration or additional cost. Schedule for 
 individual sessions is subject to change.
END:VEVENT
BEGIN:VTIMEZONE
TZID:America/New_York
X-LIC-LOCATION:America/New_York
BEGIN:DAYLIGHT
DTSTART:20230312T030000
TZOFFSETFROM:-0500
TZOFFSETTO:-0400
TZNAME:EDT
END:DAYLIGHT
END:VTIMEZONE
END:VCALENDAR