BEGIN:VCALENDAR
VERSION:2.0
PRODID:-//wp-events-plugin.com//7.2.3.1//EN
TZID:America/New_York
X-WR-TIMEZONE:America/New_York
BEGIN:VEVENT
UID:25@clevelandphoto.org
DTSTART;TZID=America/New_York:20230308T193000
DTEND;TZID=America/New_York:20230308T220000
DTSTAMP:20230307T020509Z
URL:https://www.clevelandphoto.org/events/fundamentals-class-exposure-ii-a
 nd-sports-photography/
SUMMARY:Fundamentals Class - Exposure II and Sports Photography
DESCRIPTION:Tenth class session in this intensive 12 week course\, providin
 g a complete introduction to photography. For more details and registratio
 n information\, visit the School page of this website.\n\nNOTE: Participat
 ion in CPS School program offerings requires enrollment in the entire cour
 se. Previous students are always welcome to attend individual sessions wit
 hout the need for advance notice\, registration or additional cost. Schedu
 le for individual sessions is subject to change.
END:VEVENT
BEGIN:VTIMEZONE
TZID:America/New_York
X-LIC-LOCATION:America/New_York
BEGIN:STANDARD
DTSTART:20221106T010000
TZOFFSETFROM:-0400
TZOFFSETTO:-0500
TZNAME:EST
END:STANDARD
END:VTIMEZONE
END:VCALENDAR