BEGIN:VCALENDAR
VERSION:2.0
PRODID:-//wp-events-plugin.com//7.2.3.1//EN
TZID:America/New_York
X-WR-TIMEZONE:America/New_York
BEGIN:VEVENT
UID:454@clevelandphoto.org
DTSTART;TZID=America/New_York:20251022T193000
DTEND;TZID=America/New_York:20251022T220000
DTSTAMP:20250502T125720Z
URL:https://www.clevelandphoto.org/events/fundamentals-class-exposure-ii-a
 nd-sports-photography-6/
SUMMARY:Fundamentals Class 9 - Exposure II / Sports Photography
DESCRIPTION:Tenth class session in this intensive 12 week course\, providin
 g a complete introduction to photography. For more details and registratio
 n information\, visit the School page of this website.\n\nStudents will b
 e taught more in-depth concepts of exposure and how their cameras may misl
 ead them.  The students will learn some tips and techniques for sports ph
 otography.\n\nNOTE: Participation in CPS School program offerings requires
  enrollment in the entire course. Schedule for individual sessions is subj
 ect to change.
CATEGORIES:School
END:VEVENT
BEGIN:VTIMEZONE
TZID:America/New_York
X-LIC-LOCATION:America/New_York
BEGIN:DAYLIGHT
DTSTART:20250309T030000
TZOFFSETFROM:-0500
TZOFFSETTO:-0400
TZNAME:EDT
END:DAYLIGHT
END:VTIMEZONE
END:VCALENDAR