BEGIN:VCALENDAR
VERSION:2.0
PRODID:-//wp-events-plugin.com//7.2.3.1//EN
TZID:America/New_York
X-WR-TIMEZONE:America/New_York
BEGIN:VEVENT
UID:239@clevelandphoto.org
DTSTART;TZID=America/New_York:20240427T100000
DTEND;TZID=America/New_York:20240427T160000
DTSTAMP:20230827T170306Z
URL:https://www.clevelandphoto.org/events/fundamentals-class-environmental
 -portraiture-and-portraiture-lighting/
SUMMARY:Fundamentals Class - Environmental Portraiture and Portraiture & Li
 ghting
DESCRIPTION:Seventh and eighth class sessions in this intensive 6 week cour
 se\, providing a complete introduction to photography. For more details an
 d registration information\, visit the School page of this website.\n\nNO
 TE: Participation in CPS School program offerings requires enrollment in t
 he entire course. Previous students are always welcome to attend individua
 l sessions without the need for advance notice\, registration or additiona
 l cost. Schedule for individual sessions is subject to change.
CATEGORIES:School
END:VEVENT
BEGIN:VTIMEZONE
TZID:America/New_York
X-LIC-LOCATION:America/New_York
BEGIN:DAYLIGHT
DTSTART:20240310T030000
TZOFFSETFROM:-0500
TZOFFSETTO:-0400
TZNAME:EDT
END:DAYLIGHT
END:VTIMEZONE
END:VCALENDAR