BEGIN:VCALENDAR
VERSION:2.0
PRODID:-//wp-events-plugin.com//7.2.3.1//EN
TZID:America/New_York
X-WR-TIMEZONE:America/New_York
BEGIN:VEVENT
UID:693@clevelandphoto.org
DTSTART;TZID=America/New_York:20260425T100000
DTEND;TZID=America/New_York:20260425T160000
DTSTAMP:20260307T154633Z
URL:https://www.clevelandphoto.org/events/fundamentals-class-environmental
 -portraiture-and-portraiture-lighting-3/
SUMMARY:Fundamentals Class - Lenses & Filters and Portraiture & Lighting
DESCRIPTION:Seventh and eighth class sessions in this intensive 6 week cour
 se\, providing a complete introduction to photography. For more details an
 d registration information\, visit the School page of this website.\n\nIn
  the morning students will learn about the various types of lenses availab
 le and the features and functions of lenses and filters in general.\n\nIn 
 the afternoon students will learn how to pose subjects to create more inte
 resting portraits.  They will learn about different artificial lighting t
 echniques and how to use inexpensive lights most effectively.  The studen
 ts will be given the opportunity to practice what they've learned at three
  different portrait stations around the clubhouse.\n\nNOTE: Participation 
 in CPS School program offerings requires enrollment in the entire course. 
 Schedule for individual sessions is subject to change.
CATEGORIES:School
END:VEVENT
BEGIN:VTIMEZONE
TZID:America/New_York
X-LIC-LOCATION:America/New_York
BEGIN:DAYLIGHT
DTSTART:20260308T030000
TZOFFSETFROM:-0500
TZOFFSETTO:-0400
TZNAME:EDT
END:DAYLIGHT
END:VTIMEZONE
END:VCALENDAR