BEGIN:VCALENDAR
VERSION:2.0
PRODID:-//wp-events-plugin.com//7.2.3.1//EN
TZID:America/New_York
X-WR-TIMEZONE:America/New_York
BEGIN:VEVENT
UID:447@clevelandphoto.org
DTSTART;TZID=America/New_York:20251008T193000
DTEND;TZID=America/New_York:20251008T220000
DTSTAMP:20250502T125524Z
URL:https://www.clevelandphoto.org/events/fundamentals-class-environmental
 -portraiture-8/
SUMMARY:Fundamentals Class 7 - Environmental Portraiture
DESCRIPTION:Students will learn techniques for creating interesting portrai
 ts using natural light both indoors and outdoors and how to choose the bes
 t locations for their portraits.\n\nSeventh class session in this intensiv
 e 12 week course\, providing a complete introduction to photography. For m
 ore details and registration information\, visit the School page of this 
 website.\n\nNOTE: Participation in CPS School program offerings requires e
 nrollment in the entire course. Schedule for individual sessions is subjec
 t to change.
CATEGORIES:School
END:VEVENT
BEGIN:VTIMEZONE
TZID:America/New_York
X-LIC-LOCATION:America/New_York
BEGIN:DAYLIGHT
DTSTART:20250309T030000
TZOFFSETFROM:-0500
TZOFFSETTO:-0400
TZNAME:EDT
END:DAYLIGHT
END:VTIMEZONE
END:VCALENDAR