BEGIN:VCALENDAR
VERSION:2.0
PRODID:-//wp-events-plugin.com//7.2.3.1//EN
TZID:America/New_York
X-WR-TIMEZONE:America/New_York
BEGIN:VEVENT
UID:229@clevelandphoto.org
DTSTART;TZID=America/New_York:20240214T193000
DTEND;TZID=America/New_York:20240214T220000
DTSTAMP:20230827T134204Z
URL:https://www.clevelandphoto.org/events/fundamentals-class-environmental
 -portraiture-5/
SUMMARY:Fundamentals Class - Environmental Portraiture
DESCRIPTION:Seventh class session in this intensive 12 week course\, provid
 ing a complete introduction to photography. For more details and registrat
 ion information\, visit the School page of this website.\n\nNOTE: Particip
 ation in CPS School program offerings requires enrollment in the entire co
 urse. Previous students are always welcome to attend individual sessions w
 ithout the need for advance notice\, registration or additional cost. Sche
 dule for individual sessions is subject to change.
CATEGORIES:School
END:VEVENT
BEGIN:VTIMEZONE
TZID:America/New_York
X-LIC-LOCATION:America/New_York
BEGIN:STANDARD
DTSTART:20231105T010000
TZOFFSETFROM:-0400
TZOFFSETTO:-0500
TZNAME:EST
END:STANDARD
END:VTIMEZONE
END:VCALENDAR