BEGIN:VCALENDAR
VERSION:2.0
PRODID:-//wp-events-plugin.com//7.2.3.1//EN
TZID:America/New_York
X-WR-TIMEZONE:America/New_York
BEGIN:VEVENT
UID:233@clevelandphoto.org
DTSTART;TZID=America/New_York:20240313T193000
DTEND;TZID=America/New_York:20240313T220000
DTSTAMP:20230827T134308Z
URL:https://www.clevelandphoto.org/events/fundamentals-class-downloading-o
 rganizing-course-review-and-how-to-backup-and-showcase-your-work/
SUMMARY:Fundamentals Class - Downloading\, Organizing\, Course Review and H
 ow to Backup and Showcase Your Work
DESCRIPTION:Eleventh class session in this intensive 12 week course\, provi
 ding a complete introduction to photography. For more details and registra
 tion information\, visit the School page of this website.\n\nNOTE: Partic
 ipation in CPS School program offerings requires enrollment in the entire 
 course. Previous students are always welcome to attend individual sessions
  without the need for advance notice\, registration or additional cost. Sc
 hedule for individual sessions is subject to change.
CATEGORIES:School
END:VEVENT
BEGIN:VTIMEZONE
TZID:America/New_York
X-LIC-LOCATION:America/New_York
BEGIN:DAYLIGHT
DTSTART:20240310T030000
TZOFFSETFROM:-0500
TZOFFSETTO:-0400
TZNAME:EDT
END:DAYLIGHT
END:VTIMEZONE
END:VCALENDAR