BEGIN:VCALENDAR
VERSION:2.0
PRODID:-//wp-events-plugin.com//7.2.3.1//EN
TZID:America/New_York
X-WR-TIMEZONE:America/New_York
BEGIN:VEVENT
UID:452@clevelandphoto.org
DTSTART;TZID=America/New_York:20251105T193000
DTEND;TZID=America/New_York:20251105T220000
DTSTAMP:20250502T125916Z
URL:https://www.clevelandphoto.org/events/fundamentals-class-downloading-o
 rganizing-course-review-and-how-to-backup-and-showcase-your-work-5/
SUMMARY:Fundamentals Class 11 - Downloading\, Organizing\, Backing-up\, Sho
 wcasing / Course Review
DESCRIPTION:In this class students learn how to get their photos off of the
 ir camera and onto a computer.  They will learn how to organize\, backup 
 and showcase their photos.  Also in this class the students will be given
  a complete review of the course with the opportunity to ask questions abo
 ut any part.\n\nThis is the eleventh class session in this intensive 12 we
 ek course\, providing a complete introduction to photography. For more det
 ails and registration information\, visit the School page of this website
 .\n\nNOTE: Participation in CPS School program offerings requires enrollme
 nt in the entire course. Schedule for individual sessions is subject to ch
 ange.
CATEGORIES:School
END:VEVENT
BEGIN:VTIMEZONE
TZID:America/New_York
X-LIC-LOCATION:America/New_York
BEGIN:STANDARD
DTSTART:20251102T010000
TZOFFSETFROM:-0400
TZOFFSETTO:-0500
TZNAME:EST
END:STANDARD
END:VTIMEZONE
END:VCALENDAR