BEGIN:VCALENDAR
VERSION:2.0
PRODID:-//wp-events-plugin.com//7.2.3.1//EN
TZID:America/New_York
X-WR-TIMEZONE:America/New_York
BEGIN:VEVENT
UID:254@clevelandphoto.org
DTSTART;TZID=America/New_York:20241106T193000
DTEND;TZID=America/New_York:20241106T220000
DTSTAMP:20240830T205805Z
URL:https://www.clevelandphoto.org/events/fundamentals-class-downloading-o
 rganizing-course-review-and-how-to-backup-and-showcase-your-work-3/
SUMMARY:Fundamentals Class - Downloading\, Organizing\, Course Review and H
 ow to Backup and Showcase Your Work
DESCRIPTION:Eleventh class session in this intensive 12 week course\, provi
 ding a complete introduction to photography. For more details and registra
 tion information\, visit the School page of this website.\n\nNOTE: Partic
 ipation in CPS School program offerings requires enrollment in the entire 
 course. Schedule for individual sessions is subject to change.
CATEGORIES:School
END:VEVENT
BEGIN:VTIMEZONE
TZID:America/New_York
X-LIC-LOCATION:America/New_York
BEGIN:STANDARD
DTSTART:20241103T010000
TZOFFSETFROM:-0400
TZOFFSETTO:-0500
TZNAME:EST
END:STANDARD
END:VTIMEZONE
END:VCALENDAR