BEGIN:VCALENDAR
VERSION:2.0
PRODID:-//wp-events-plugin.com//7.2.3.1//EN
TZID:America/New_York
X-WR-TIMEZONE:America/New_York
BEGIN:VEVENT
UID:241@clevelandphoto.org
DTSTART;TZID=America/New_York:20240511T100000
DTEND;TZID=America/New_York:20240511T160000
DTSTAMP:20230827T170512Z
URL:https://www.clevelandphoto.org/events/fundamentals-class-downloading-o
 rganizing-backup-course-review-and-student-image-review/
SUMMARY:Fundamentals Class - Downloading\, Organizing\, Backup & Course Rev
 iew and Student Image Review
DESCRIPTION:Eleventh and twelfth class sessions in this intensive 6 week co
 urse\, providing a complete introduction to photography. For more details 
 and registration information\, visit the School page of this website.\n\n
 NOTE: Participation in CPS School program offerings requires enrollment in
  the entire course. Previous students are always welcome to attend individ
 ual sessions without the need for advance notice\, registration or additio
 nal cost. Schedule for individual sessions is subject to change.
CATEGORIES:School
END:VEVENT
BEGIN:VTIMEZONE
TZID:America/New_York
X-LIC-LOCATION:America/New_York
BEGIN:DAYLIGHT
DTSTART:20240310T030000
TZOFFSETFROM:-0500
TZOFFSETTO:-0400
TZNAME:EDT
END:DAYLIGHT
END:VTIMEZONE
END:VCALENDAR