BEGIN:VCALENDAR
VERSION:2.0
PRODID:-//wp-events-plugin.com//7.2.3.1//EN
TZID:America/New_York
X-WR-TIMEZONE:America/New_York
BEGIN:VEVENT
UID:691@clevelandphoto.org
DTSTART;TZID=America/New_York:20260509T100000
DTEND;TZID=America/New_York:20260509T160000
DTSTAMP:20260313T150849Z
URL:https://www.clevelandphoto.org/events/fundamentals-class-downloading-o
 rganizing-backing-up-course-review-student-image-review/
SUMMARY:Fundamentals Class - Bird & Wildlife Photography / Course Review / 
 Student Image Review
DESCRIPTION:Eleventh and twelfth class sessions in this intensive 6 week co
 urse\, providing a complete introduction to photography. For more details 
 and registration information\, visit the School page of this website.\n\n
 In the morning students learn tips and techniques for shooting birds and o
 ther wildlife.  Also in the last portion of this class the students will 
 be given a quick review of the course with the opportunity to ask question
 s about any part.\n\nIn the afternoon students' photographs are reviewed a
 nd students are offered advice on how the photos might be improved.\n\nNOT
 E: Participation in CPS School program offerings requires enrollment in th
 e entire course. Previous students are always welcome to attend individual
  sessions without the need for advance notice\, registration or additional
  cost. Schedule for individual sessions is subject to change.
CATEGORIES:School
END:VEVENT
BEGIN:VTIMEZONE
TZID:America/New_York
X-LIC-LOCATION:America/New_York
BEGIN:DAYLIGHT
DTSTART:20260308T030000
TZOFFSETFROM:-0500
TZOFFSETTO:-0400
TZNAME:EDT
END:DAYLIGHT
END:VTIMEZONE
END:VCALENDAR