BEGIN:VCALENDAR
VERSION:2.0
PRODID:-//wp-events-plugin.com//7.2.3.1//EN
TZID:America/New_York
X-WR-TIMEZONE:America/New_York
BEGIN:VEVENT
UID:421@clevelandphoto.org
DTSTART;TZID=America/New_York:20250122T193000
DTEND;TZID=America/New_York:20250122T220000
DTSTAMP:20240830T210001Z
URL:https://www.clevelandphoto.org/events/fundamentals-class-composition-a
 nd-tripods-4/
SUMMARY:Fundamentals Class - Composition and Tripods
DESCRIPTION:Third class session in this intensive 12 week course\, providin
 g a complete introduction to photography. For more details and registratio
 n information\, visit the School page of this website.\n\nNOTE: Participa
 tion in CPS School program offerings requires enrollment in the entire cou
 rse. Schedule for individual sessions is subject to change.
CATEGORIES:School
END:VEVENT
BEGIN:VTIMEZONE
TZID:America/New_York
X-LIC-LOCATION:America/New_York
BEGIN:STANDARD
DTSTART:20241103T010000
TZOFFSETFROM:-0400
TZOFFSETTO:-0500
TZNAME:EST
END:STANDARD
END:VTIMEZONE
END:VCALENDAR