BEGIN:VCALENDAR
VERSION:2.0
PRODID:-//wp-events-plugin.com//7.2.3.1//EN
TZID:America/New_York
X-WR-TIMEZONE:America/New_York
BEGIN:VEVENT
UID:666@clevelandphoto.org
DTSTART;TZID=America/New_York:20261021T193000
DTEND;TZID=America/New_York:20261021T220000
DTSTAMP:20250501T125759Z
URL:https://www.clevelandphoto.org/events/fundamentals-class-9-exposure-ii
 -and-sports-photography/
SUMMARY:Fundamentals Class-9 - Exposure II and Sports Photography
DESCRIPTION:Students will be taught more in-depth concepts of exposure and 
 how their cameras may mislead them.  The students will learn some tips an
 d techniques of sports photography.\n\nTenth class session in this intensi
 ve 12 week course\, providing a complete introduction to photography. For 
 more details and registration information\, visit the School page of this
  website.\n\nNOTE: Participation in CPS School program offerings requires 
 enrollment in the entire course. Schedule for individual sessions is subje
 ct to change.
CATEGORIES:School
END:VEVENT
BEGIN:VTIMEZONE
TZID:America/New_York
X-LIC-LOCATION:America/New_York
BEGIN:DAYLIGHT
DTSTART:20260308T030000
TZOFFSETFROM:-0500
TZOFFSETTO:-0400
TZNAME:EDT
END:DAYLIGHT
END:VTIMEZONE
END:VCALENDAR