BEGIN:VCALENDAR
VERSION:2.0
PRODID:-//wp-events-plugin.com//7.2.3.1//EN
TZID:America/New_York
X-WR-TIMEZONE:America/New_York
BEGIN:VEVENT
UID:681@clevelandphoto.org
DTSTART;TZID=America/New_York:20260225T193000
DTEND;TZID=America/New_York:20260225T220000
DTSTAMP:20250502T123602Z
URL:https://www.clevelandphoto.org/events/fundamentals-class-8-portraiture
 -and-lighting-2/
SUMMARY:Fundamentals Class-8 - Portraiture and Lighting
DESCRIPTION:Students will learn how to pose subjects to create more interes
 ting portraits.  They will learn about different artificial lighting tech
 niques and how to use inexpensive lights most effectively.  The students 
 will be given the opportunity to practice what they've learned at three di
 fferent portrait stations around the clubhouse.\n\nEighth class session in
  this intensive 12 week course\, providing a complete introduction to phot
 ography. For more details and registration information\, visit the School 
 page of this website.\n\nNOTE: Participation in CPS School program offeri
 ngs requires enrollment in the entire course. Schedule for individual sess
 ions is subject to change.
CATEGORIES:School
END:VEVENT
BEGIN:VTIMEZONE
TZID:America/New_York
X-LIC-LOCATION:America/New_York
BEGIN:STANDARD
DTSTART:20251102T010000
TZOFFSETFROM:-0400
TZOFFSETTO:-0500
TZNAME:EST
END:STANDARD
END:VTIMEZONE
END:VCALENDAR