BEGIN:VCALENDAR
VERSION:2.0
PRODID:-//wp-events-plugin.com//7.2.3.1//EN
TZID:America/New_York
X-WR-TIMEZONE:America/New_York
BEGIN:VEVENT
UID:682@clevelandphoto.org
DTSTART;TZID=America/New_York:20260218T193000
DTEND;TZID=America/New_York:20260218T220000
DTSTAMP:20250502T123701Z
URL:https://www.clevelandphoto.org/events/fundamentals-class-7-environment
 al-portraiture-2/
SUMMARY:Fundamentals Class-7 - Environmental Portraiture
DESCRIPTION:Students will learn techniques for creating interesting portrai
 ts using natural light both indoors and outdoors and how to choose the bes
 t locations for their portraits.\n\nSeventh class session in this intensiv
 e 12 week course\, providing a complete introduction to photography. For m
 ore details and registration information\, visit the School page of this 
 website.\n\nNOTE: Participation in CPS School program offerings requires e
 nrollment in the entire course. Schedule for individual sessions is subjec
 t to change.
CATEGORIES:School
END:VEVENT
BEGIN:VTIMEZONE
TZID:America/New_York
X-LIC-LOCATION:America/New_York
BEGIN:STANDARD
DTSTART:20251102T010000
TZOFFSETFROM:-0400
TZOFFSETTO:-0500
TZNAME:EST
END:STANDARD
END:VTIMEZONE
END:VCALENDAR