BEGIN:VCALENDAR
VERSION:2.0
PRODID:-//wp-events-plugin.com//7.2.3.1//EN
TZID:America/New_York
X-WR-TIMEZONE:America/New_York
BEGIN:VEVENT
UID:669@clevelandphoto.org
DTSTART;TZID=America/New_York:20260930T193000
DTEND;TZID=America/New_York:20260930T220000
DTSTAMP:20250501T131640Z
URL:https://www.clevelandphoto.org/events/fundamentals-class-6-flash-photo
 graphy/
SUMMARY:Fundamentals Class-6 - Flash Photography
DESCRIPTION:Students will learn about the various types of flash devices th
 at are available.  They will learn when to use a flash and several ways a
  flash can be used.\n\nSixth class session in this intensive 12 week cours
 e\, providing a complete introduction to photography. For more details and
  registration information\, visit the School page of this website.\n\nNOT
 E: Participation in CPS School program offerings requires enrollment in th
 e entire course. Schedule for individual sessions is subject to change.
CATEGORIES:School
END:VEVENT
BEGIN:VTIMEZONE
TZID:America/New_York
X-LIC-LOCATION:America/New_York
BEGIN:DAYLIGHT
DTSTART:20260308T030000
TZOFFSETFROM:-0500
TZOFFSETTO:-0400
TZNAME:EDT
END:DAYLIGHT
END:VTIMEZONE
END:VCALENDAR