BEGIN:VCALENDAR
VERSION:2.0
PRODID:-//wp-events-plugin.com//7.2.3.1//EN
TZID:America/New_York
X-WR-TIMEZONE:America/New_York
BEGIN:VEVENT
UID:683@clevelandphoto.org
DTSTART;TZID=America/New_York:20260128T193000
DTEND;TZID=America/New_York:20260128T220000
DTSTAMP:20251211T175514Z
URL:https://www.clevelandphoto.org/events/fundamentals-class-6-flash-photo
 graphy-2/
SUMMARY:Fundamentals Class- 4 - Flash Photography
DESCRIPTION:Students will learn about the various types of flash devices th
 at are available.  They will learn when to use a flash and several ways a
  flash can be used.\n\nThe Fourth class session in this intensive 12 week 
 course\, providing a complete introduction to photography. For more detail
 s and registration information\, visit the School page of this website.\n
 \nNOTE: Participation in CPS School program offerings requires enrollment 
 in the entire course. Schedule for individual sessions is subject to chang
 e.
CATEGORIES:School
END:VEVENT
BEGIN:VTIMEZONE
TZID:America/New_York
X-LIC-LOCATION:America/New_York
BEGIN:STANDARD
DTSTART:20251102T010000
TZOFFSETFROM:-0400
TZOFFSETTO:-0500
TZNAME:EST
END:STANDARD
END:VTIMEZONE
END:VCALENDAR