BEGIN:VCALENDAR
VERSION:2.0
PRODID:-//wp-events-plugin.com//7.2.3.1//EN
TZID:America/New_York
X-WR-TIMEZONE:America/New_York
BEGIN:VEVENT
UID:684@clevelandphoto.org
DTSTART;TZID=America/New_York:20260204T193000
DTEND;TZID=America/New_York:20260204T220000
DTSTAMP:20250502T123842Z
URL:https://www.clevelandphoto.org/events/fundamentals-class-5-macro-photo
 graphy-2/
SUMMARY:Fundamentals Class-5 - Macro Photography
DESCRIPTION:Students will learn what macro photography is and how to do it.
   Students will be given the opportunity to practice macro photography at
  several macro stations setup around the clubhouse.\n\nFifth class session
  in this intensive 12 week course\, providing a complete introduction to p
 hotography. For more details and registration information\, visit the Scho
 ol page of this website.\n\nNOTE: Participation in CPS School program off
 erings requires enrollment in the entire course. Schedule for individual s
 essions is subject to change.
CATEGORIES:School
END:VEVENT
BEGIN:VTIMEZONE
TZID:America/New_York
X-LIC-LOCATION:America/New_York
BEGIN:STANDARD
DTSTART:20251102T010000
TZOFFSETFROM:-0400
TZOFFSETTO:-0500
TZNAME:EST
END:STANDARD
END:VTIMEZONE
END:VCALENDAR