BEGIN:VCALENDAR
VERSION:2.0
PRODID:-//wp-events-plugin.com//7.2.3.1//EN
TZID:America/New_York
X-WR-TIMEZONE:America/New_York
BEGIN:VEVENT
UID:685@clevelandphoto.org
DTSTART;TZID=America/New_York:20260211T193000
DTEND;TZID=America/New_York:20260211T220000
DTSTAMP:20251211T175653Z
URL:https://www.clevelandphoto.org/events/fundamentals-class-4-composition
 -tripods-camera-bags-2/
SUMMARY:Fundamentals Class- 6 - Composition / Tripods & Camera Bags
DESCRIPTION:Students will learn about the elements of a photograph that wil
 l make it more interesting to viewers.  They will learn rules-of-thumb th
 at will help them to create more professional looking photos.  Club membe
 rs will have their personal tripods and camera bags available for students
  to look at\, handle and ask questions about.\n\nSixth class session in th
 is intensive 12 week course\, providing a complete introduction to photogr
 aphy. For more details and registration information\, visit the School pag
 e of this website.\n\nNOTE: Participation in CPS School program offerings
  requires enrollment in the entire course. Schedule for individual session
 s is subject to change.
CATEGORIES:School
END:VEVENT
BEGIN:VTIMEZONE
TZID:America/New_York
X-LIC-LOCATION:America/New_York
BEGIN:STANDARD
DTSTART:20251102T010000
TZOFFSETFROM:-0400
TZOFFSETTO:-0500
TZNAME:EST
END:STANDARD
END:VTIMEZONE
END:VCALENDAR