BEGIN:VCALENDAR
VERSION:2.0
PRODID:-//wp-events-plugin.com//7.2.3.1//EN
TZID:America/New_York
X-WR-TIMEZONE:America/New_York
BEGIN:VEVENT
UID:686@clevelandphoto.org
DTSTART;TZID=America/New_York:20260121T193000
DTEND;TZID=America/New_York:20260121T220000
DTSTAMP:20251211T175825Z
URL:https://www.clevelandphoto.org/events/fundamentals-class-3-lenses-filt
 ers/
SUMMARY:Fundamentals Class- 3 - Lenses & Filters
DESCRIPTION:Students will learn about the various types of lenses available
  and the features and functions of lenses and filters in general.\n\nThe t
 hird class session in this intensive 12 week course\, providing a complete
  introduction to photography. For more details and registration informatio
 n\, visit the School page of this website.\n\nNOTE: Participation in CPS 
 School program offerings requires enrollment in the entire course. Schedul
 e for individual sessions is subject to change.
CATEGORIES:School
END:VEVENT
BEGIN:VTIMEZONE
TZID:America/New_York
X-LIC-LOCATION:America/New_York
BEGIN:STANDARD
DTSTART:20251102T010000
TZOFFSETFROM:-0400
TZOFFSETTO:-0500
TZNAME:EST
END:STANDARD
END:VTIMEZONE
END:VCALENDAR