BEGIN:VCALENDAR
VERSION:2.0
PRODID:-//wp-events-plugin.com//7.2.3.1//EN
TZID:America/New_York
X-WR-TIMEZONE:America/New_York
BEGIN:VEVENT
UID:672@clevelandphoto.org
DTSTART;TZID=America/New_York:20260909T193000
DTEND;TZID=America/New_York:20260909T220000
DTSTAMP:20250501T132958Z
URL:https://www.clevelandphoto.org/events/fundamentals-class-3-lenses-and-
 filters/
SUMMARY:Fundamentals Class-3 - Lenses and Filters
DESCRIPTION:Students will learn about the various types of lenses available
  and the features and functions of lenses and filters.\n\nFourth class ses
 sion in this intensive 12 week course\, providing a complete introduction 
 to photography. For more details and registration information\, visit the 
 School page of this website.\n\nNOTE: Participation in CPS School program
  offerings requires enrollment in the entire course. Schedule for individu
 al sessions is subject to change.
CATEGORIES:School
END:VEVENT
BEGIN:VTIMEZONE
TZID:America/New_York
X-LIC-LOCATION:America/New_York
BEGIN:DAYLIGHT
DTSTART:20260308T030000
TZOFFSETFROM:-0500
TZOFFSETTO:-0400
TZNAME:EDT
END:DAYLIGHT
END:VTIMEZONE
END:VCALENDAR