BEGIN:VCALENDAR
VERSION:2.0
PRODID:-//wp-events-plugin.com//7.2.3.1//EN
TZID:America/New_York
X-WR-TIMEZONE:America/New_York
BEGIN:VEVENT
UID:687@clevelandphoto.org
DTSTART;TZID=America/New_York:20260114T193000
DTEND;TZID=America/New_York:20260114T220000
DTSTAMP:20250502T124213Z
URL:https://www.clevelandphoto.org/events/fundamentals-class-2-exposure-2/
SUMMARY:Fundamentals Class-2 - Exposure
DESCRIPTION:Students will learn about aperture\, shutter speed and ISO and 
 how to use them to get a properly exposed photo.\n\nSecond class session i
 n this intensive 12 week course\, providing a complete introduction to pho
 tography. For more details and registration information\, visit the School
  page of this website.\n\nNOTE: Participation in CPS School program offer
 ings requires enrollment in the entire course. Schedule for individual ses
 sions is subject to change.
CATEGORIES:School
END:VEVENT
BEGIN:VTIMEZONE
TZID:America/New_York
X-LIC-LOCATION:America/New_York
BEGIN:STANDARD
DTSTART:20251102T010000
TZOFFSETFROM:-0400
TZOFFSETTO:-0500
TZNAME:EST
END:STANDARD
END:VTIMEZONE
END:VCALENDAR