BEGIN:VCALENDAR
VERSION:2.0
PRODID:-//wp-events-plugin.com//7.2.3.1//EN
TZID:America/New_York
X-WR-TIMEZONE:America/New_York
BEGIN:VEVENT
UID:664@clevelandphoto.org
DTSTART;TZID=America/New_York:20261104T193000
DTEND;TZID=America/New_York:20261104T220000
DTSTAMP:20250501T124511Z
URL:https://www.clevelandphoto.org/events/fundamentals-class-11-downloadin
 g-organizing-course-review-and-how-to-backup-and-showcase-your-work/
SUMMARY:Fundamentals Class-11 - Downloading\, Organizing\, Course Review an
 d How to Backup and Showcase Your Work
DESCRIPTION:In this class students learn how to get their photos off of the
 ir camera and onto a computer.  They will learn how to organize\, backup 
 and showcase their photos.  Also in this class the students will be given
  a complete review of the course with the opportunity to ask questions abo
 ut any part.\n\nThis is the eleventh class session in this intensive 12 we
 ek course\, providing a complete introduction to photography. For more det
 ails and registration information\, visit the School page of this website
 .\n\nNOTE: Participation in CPS School program offerings requires enrollme
 nt in the entire course. Schedule for individual sessions is subject to ch
 ange.
CATEGORIES:School
END:VEVENT
BEGIN:VTIMEZONE
TZID:America/New_York
X-LIC-LOCATION:America/New_York
BEGIN:STANDARD
DTSTART:20261101T010000
TZOFFSETFROM:-0400
TZOFFSETTO:-0500
TZNAME:EST
END:STANDARD
END:VTIMEZONE
END:VCALENDAR