BEGIN:VCALENDAR
VERSION:2.0
PRODID:-//wp-events-plugin.com//7.2.3.1//EN
TZID:America/New_York
X-WR-TIMEZONE:America/New_York
BEGIN:VEVENT
UID:665@clevelandphoto.org
DTSTART;TZID=America/New_York:20261028T193000
DTEND;TZID=America/New_York:20261028T220000
DTSTAMP:20250501T125245Z
URL:https://www.clevelandphoto.org/events/fundamentals-class-10-people-nig
 ht-photography-photo-editing-demo/
SUMMARY:Fundamentals Class-10 - People & Night Photography / Photo Editing 
 Demo
DESCRIPTION:In this class students will learn some of the techniques for pe
 ople photography and night photography.  The students will also be given 
 a demonstration of how editing their photos can take them from good to stu
 nning.\n\nNinth class session in this intensive 12 week course\, providing
  a complete introduction to photography. For more details and registration
  information\, visit the School page of this website.\n\nNOTE: Participat
 ion in CPS School program offerings requires enrollment in the entire cour
 se. Schedule for individual sessions is subject to change.
CATEGORIES:School
END:VEVENT
BEGIN:VTIMEZONE
TZID:America/New_York
X-LIC-LOCATION:America/New_York
BEGIN:DAYLIGHT
DTSTART:20260308T030000
TZOFFSETFROM:-0500
TZOFFSETTO:-0400
TZNAME:EDT
END:DAYLIGHT
END:VTIMEZONE
END:VCALENDAR