BEGIN:VCALENDAR
VERSION:2.0
PRODID:-//wp-events-plugin.com//7.2.3.1//EN
TZID:America/New_York
X-WR-TIMEZONE:America/New_York
BEGIN:VEVENT
UID:674@clevelandphoto.org
DTSTART;TZID=America/New_York:20260826T193000
DTEND;TZID=America/New_York:20260826T220000
DTSTAMP:20250501T133626Z
URL:https://www.clevelandphoto.org/events/fundamentals-class-1-introductio
 n-and-camera-familiarization/
SUMMARY:Fundamentals Class-1 - Introduction and Camera Familiarization
DESCRIPTION:In this class students will be given an overview of the entire 
 course and will learn to become familiar with all the adjustments and sett
 ings on their own camera.  Several helpers will be available to give stud
 ents personal help with their cameras when needed.\n\nFirst class session 
 in this intensive 12 week course\, providing a complete introduction to ph
 otography. For more details and registration information\, visit the Schoo
 l page of this website.\n\nNOTE: Participation in CPS School program offe
 rings requires enrollment in the entire course. Schedule for individual se
 ssions is subject to change.
CATEGORIES:School
END:VEVENT
BEGIN:VTIMEZONE
TZID:America/New_York
X-LIC-LOCATION:America/New_York
BEGIN:DAYLIGHT
DTSTART:20260308T030000
TZOFFSETFROM:-0500
TZOFFSETTO:-0400
TZNAME:EDT
END:DAYLIGHT
END:VTIMEZONE
END:VCALENDAR