BEGIN:VCALENDAR
VERSION:2.0
PRODID:-//wp-events-plugin.com//7.2.3.1//EN
TZID:America/New_York
X-WR-TIMEZONE:America/New_York
BEGIN:VEVENT
UID:775@clevelandphoto.org
DTSTART;TZID=America/New_York:20250913T130000
DTEND;TZID=America/New_York:20250913T210000
DTSTAMP:20250718T163825Z
URL:https://www.clevelandphoto.org/events/freshfest-2025-all-are-welcome-t
 o-this-free-field-trip/
SUMMARY:FRESHFEST 2025 All are welcome to this free field trip
DESCRIPTION:\n\nFRESHFEST 2025 All are welcome to this free field trip\n\nD
 ate and time\n\nSaturday\, September 13 2025 · 1 - 9pm EDT\n\nLocation\n\
 nRid-All Farm &amp\; Otter Park\n\n8129 Otter Road Cleveland\, OH 44104\n\
 n&nbsp\;\n\nYOU MUST REGISTER TO ATTEND\n\nTHIS FREE EVENT!\n\nhttps://www
 .eventbrite.com/e/fresh-fest-cleveland-2025-registration-1307426019419\n\n
 LOCATION:\n\nFresh Fest Cleveland is hosted in the Urban Agriculture Innov
 ation Zone at Rid-All Farm (one of the largest and most popular urban fa
 rms in Cleveland) and Otter Park\, which occupy 26.5 acres of previously 
 vacant and repurposed land in Cleveland’s Kinsman neighborhood.\n\n&nbsp
 \;\n\nPLEASE SEE PARKING INSTRUCTIONS BELOW. WE WILL MEET AT 12:30PM AT TH
 E PARKING LOCATION TO  CATCH THE SHUTTLE. You are welcome to come at anyt
 ime just giving you a meetup point. Kim 440 570 5968 in case you have ques
 tions\n\nor email if you are coming fieldtrips@clevelandphoto.org\n\n \n\
 nPARKING &amp\; SHUTTLE:\n\nParking is free! Park and ride is available at
  Cuyahoga Metropolitan Housing Authority @ 8120 Kinsman Road. A complimen
 tary shuttle will loop between the festival parking and Fresh Fest startin
 g at 1 PM\, with continuous pick-up and return service through the end of 
 the festival.\n\n&nbsp\;\n\nWEBSITE:\n\nVisit FreshFestCleveland.com for
  detailed event and programming information\, schedule\, and updates. ✨
  Please note: Registration is highly recommended. Simply show your mobile 
 or printed tickets at the festival entry.\n\n&nbsp\;\n\nFresh Fest Clevela
 nd RETURNS on Saturday\, September 13\, 2025 from 1pm - 9pm\, with an am
 azing line-up of music\, and a full day of unforgettable performances\, ar
 t installations\, health and wellness activities\, farmer’s market\, che
 f tastings\, local vendors\, hands-on activities\, workshops\, and a kids 
 zone filled with fun for the whole family!\n\n&nbsp\;\n\nFresh Fest Clevel
 and is FREE and OPEN TO ALL.\n\nLINEUP --- Headlining Fresh Fest Clevela
 nd 2025 is hip-hop icon\, MC Lyte. MC Lyte is an iconic trailblazer in H
 ip Hop\, celebrated as both a legendary rapper and DJ. With a groundbreaki
 ng career spanning over 30 years\, she made history as the first female ra
 pper ever nominated for a Grammy Award. Her contributions have earned her 
 numerous accolades\, including BET's I Am Hip Hop Award\, honors from ADCO
 LOR\, BET Her\, the National Urban League\, and the Black Music Collective
 .\n\nRecently\, she was recognized with the Pioneers of Hip-Hop Honor from
  the Recording Industry Association of America (RIAA)\, the BET Her Hip Ho
 p Legend Award\, AARP's Living Legend Award\, and the 2023 Culture Icon Ph
 oenix Award from the Congressional Black Caucus Foundation\, presented by 
 President Joe Biden and Vice President Kamala Harris.\n\nMC Lyte was the f
 irst rap artist to perform at Carnegie Hall and the first female rapper to
  achieve a gold-certified single. A leader in the music industry\, she has
  also performed at the Kennedy Center Honors and the White House for Presi
 dent Barack Obama.\n\nIn addition to her artistry\, MC Lyte serves on the 
 Kennedy Center's Hip Hop Culture Council. In partnership with the Center\,
  she produces the annual "I AM WOMAN" event\, which celebrates the contrib
 utions of women in Hip Hop.\n\nJoining her will be a stellar lineup of reg
 ional and local favorites to be announced in May.\n\n&nbsp\;\n\nFESTIVAL M
 ISSION:\n\nPresented by Environmental Health Watch\, Rid-All Green Partn
 ership\, and Brittany’s Record Shop\, the mission of Fresh Fest Clevela
 nd is to celebrate the arts and urban agriculture\, promote health and wel
 lness\, to showcase fresh and local food while breaking down the barriers 
 of this unified and fertile
END:VEVENT
BEGIN:VTIMEZONE
TZID:America/New_York
X-LIC-LOCATION:America/New_York
BEGIN:DAYLIGHT
DTSTART:20250309T030000
TZOFFSETFROM:-0500
TZOFFSETTO:-0400
TZNAME:EDT
END:DAYLIGHT
END:VTIMEZONE
END:VCALENDAR