BEGIN:VCALENDAR
VERSION:2.0
PRODID:-//wp-events-plugin.com//7.2.3.1//EN
TZID:America/New_York
X-WR-TIMEZONE:America/New_York
BEGIN:VEVENT
UID:127@clevelandphoto.org
DTSTART;TZID=America/New_York:20230704T193000
DTEND;TZID=America/New_York:20230704T223000
DTSTAMP:20230623T004324Z
URL:https://www.clevelandphoto.org/events/fourth-of-july-firework-boat-cru
 ise-3/
SUMMARY:Fourth of July Firework Boat Cruise - SOLD OUT
DESCRIPTION:&nbsp\;\n\n\n\nTHIS EVENT IS SOLD OUT!\n\nEach year\, CPS contr
 acts with the Holiday excursion boat to provide members and their families
  the opportunity to see and shoot the Cleveland fireworks from the water\,
  with the city skyline in the background.\n\nItinerary: Fourth of July fir
 eworks viewed from the water.  Additional details to be sent to individua
 ls who register.\n\n&nbsp\;\n\nTime: Tuesday\, July 4th at 7:45pm. Please 
 plan to be flexible regarding arrival time\, but must arrive prior to 7:45
 pm. The cruise is booked for a total of 3 hours.\n\n&nbsp\;\n\nCost: $55 p
 er person\, payable ONLY via PayPal link.\nThis trip is now open to member
 s\, current students and their families\, as well as general public – yo
 u may purchase up to 4 tickets. Limited tickets remain!\n\nPaypal: Click H
 ere\n\n&nbsp\;\n\nDirections: The Holiday is docked in downtown Cleveland 
 and will be positioned on the Lake for a unique vantage point of the firew
 orks. Full details and maps will be provided to those who register for the
  trip.\n\n&nbsp\;\n\nField Trip Sponsor: Barb Cerrito for coordinating thi
 s trip!\n\n&nbsp\;\n\nAdditional Questions: Email: Field Trips\n\n&nbsp\;\
 n\nPLEASE NOTE: As with all field trips\, CPS cannot be held responsible f
 or any accidents or injuries - participate at your own risk.\n\n&nbsp\;
END:VEVENT
BEGIN:VTIMEZONE
TZID:America/New_York
X-LIC-LOCATION:America/New_York
BEGIN:DAYLIGHT
DTSTART:20230312T030000
TZOFFSETFROM:-0500
TZOFFSETTO:-0400
TZNAME:EDT
END:DAYLIGHT
END:VTIMEZONE
END:VCALENDAR