BEGIN:VCALENDAR
VERSION:2.0
PRODID:-//wp-events-plugin.com//7.2.3.1//EN
TZID:America/New_York
X-WR-TIMEZONE:America/New_York
BEGIN:VEVENT
UID:145@clevelandphoto.org
DTSTART;TZID=America/New_York:20230728T193000
DTEND;TZID=America/New_York:20230728T220000
DTSTAMP:20230706T002105Z
URL:https://www.clevelandphoto.org/events/forum-for-member-feedback-on-ai-
 competition-rules/
SUMMARY:Forum for Member Feedback on AI Competition Rules
DESCRIPTION:This evening will be a chance for the CPS membership to give th
 eir input and feedback on proposed new competition rules involving various
  forms of AI. With the competition committee present\, we hope to have a g
 ood back and forth discussion.
END:VEVENT
BEGIN:VTIMEZONE
TZID:America/New_York
X-LIC-LOCATION:America/New_York
BEGIN:DAYLIGHT
DTSTART:20230312T030000
TZOFFSETFROM:-0500
TZOFFSETTO:-0400
TZNAME:EDT
END:DAYLIGHT
END:VTIMEZONE
END:VCALENDAR