BEGIN:VCALENDAR
VERSION:2.0
PRODID:-//wp-events-plugin.com//7.2.3.1//EN
TZID:America/New_York
X-WR-TIMEZONE:America/New_York
BEGIN:VEVENT
UID:343@clevelandphoto.org
DTSTART;TZID=America/New_York:20240427T100000
DTEND;TZID=America/New_York:20240427T133000
DTSTAMP:20240405T094943Z
URL:https://www.clevelandphoto.org/events/field-trip-terminal-tower/
SUMMARY:Field Trip - SOLD OUT! Terminal Tower & Old Stone Church
DESCRIPTION:EVENT IS SOLD OUT!\n\nWe are very pleased to announce that we w
 ill be returning to one of our most popular field trip sites for the first
  time in several years!\n\nWe will be able to provide you with access to t
 he OUTDOOR observation deck of the Terminal Tower! We have combined it wit
 h a visit to the Old Stone Church.\n\n&nbsp\;\n\nItinerary: Access to the
  Observation deck and 44th floor of Terminal Tower.  From there\, we walk
  over to the Old Stone Church.\n\n&nbsp\;\n\nWho: Members ONLY. Email will
  be sent by March 30th\, 2024 to Members.\n\n&nbsp\;\n\nWhere: Terminal To
 wer\, 50 Public Square\, Cleveland\, OH For a map: click here\n\n&nbsp\;\n
 \nField Trip Sponsor: Thank you\, Jerry Phenney and John Paganini for coor
 dinating!\n\n&nbsp\;\n\nAdditional Questions: Email: Field Trips\n\n&nbsp\
 ;\n\nPLEASE NOTE: As with all field trips\, CPS cannot be held responsible
  for any accidents or injuries - participate at your own risk.\n\n&nbsp\;
LOCATION:https://goo.gl/maps/yQEbNCVjREbk4Hvz8?coh=178573&entry=tt
END:VEVENT
BEGIN:VTIMEZONE
TZID:America/New_York
X-LIC-LOCATION:America/New_York
BEGIN:DAYLIGHT
DTSTART:20240310T030000
TZOFFSETFROM:-0500
TZOFFSETTO:-0400
TZNAME:EDT
END:DAYLIGHT
END:VTIMEZONE
END:VCALENDAR